BEGIN:VCALENDAR
VERSION:2.0
PRODID:-//Mater Dei Genk - ECPv4.7.4//NONSGML v1.0//EN
CALSCALE:GREGORIAN
METHOD:PUBLISH
X-WR-CALNAME:Mater Dei Genk
X-ORIGINAL-URL:https://materdei-genk.be
X-WR-CALDESC:Evenementen voor Mater Dei Genk
BEGIN:VEVENT
DTSTART;TZID=Europe/Brussels:20220330T084000
DTEND;TZID=Europe/Brussels:20220330T102000
DTSTAMP:20260424T130957
CREATED:20220112T065003Z
LAST-MODIFIED:20220112T065003Z
UID:12115-1648629600-1648635600@materdei-genk.be
SUMMARY:2A en 2B/ zwemmen
DESCRIPTION:
URL:https://materdei-genk.be/kalender/2a-en-2b-zwemmen-11/
END:VEVENT
END:VCALENDAR