BEGIN:VCALENDAR
VERSION:2.0
PRODID:-//Mater Dei Genk - ECPv4.7.4//NONSGML v1.0//EN
CALSCALE:GREGORIAN
METHOD:PUBLISH
X-WR-CALNAME:Mater Dei Genk
X-ORIGINAL-URL:https://materdei-genk.be
X-WR-CALDESC:Evenementen voor Mater Dei Genk
BEGIN:VEVENT
DTSTART;TZID=Europe/Brussels:20220425T080000
DTEND;TZID=Europe/Brussels:20220426T170000
DTSTAMP:20260424T093516
CREATED:20220307T104448Z
LAST-MODIFIED:20220307T104448Z
UID:12830-1650873600-1650992400@materdei-genk.be
SUMMARY:Boerderijklassen 1ste leerjaar
DESCRIPTION:
URL:https://materdei-genk.be/kalender/boerderijklassen-1ste-leerjaar/
CATEGORIES:1a,1b
END:VEVENT
END:VCALENDAR