BEGIN:VCALENDAR
VERSION:2.0
PRODID:-//Mater Dei Genk - ECPv4.7.4//NONSGML v1.0//EN
CALSCALE:GREGORIAN
METHOD:PUBLISH
X-WR-CALNAME:Mater Dei Genk
X-ORIGINAL-URL:https://materdei-genk.be
X-WR-CALDESC:Evenementen voor Mater Dei Genk
BEGIN:VEVENT
DTSTART;VALUE=DATE:20230518
DTEND;VALUE=DATE:20230520
DTSTAMP:20260421T090836
CREATED:20220904T151940Z
LAST-MODIFIED:20220904T151940Z
UID:14424-1684368000-1684540799@materdei-genk.be
SUMMARY:Hemelvaart en vrije dag - Eerste communie
DESCRIPTION:
URL:https://materdei-genk.be/kalender/hemelvaart-en-vrije-dag-eerste-communie/
END:VEVENT
END:VCALENDAR