BEGIN:VCALENDAR
VERSION:2.0
PRODID:-//Mater Dei Genk - ECPv4.7.4//NONSGML v1.0//EN
CALSCALE:GREGORIAN
METHOD:PUBLISH
X-WR-CALNAME:Mater Dei Genk
X-ORIGINAL-URL:https://materdei-genk.be
X-WR-CALDESC:Evenementen voor Mater Dei Genk
BEGIN:VEVENT
DTSTART;TZID=Europe/Brussels:20190927T090000
DTEND;TZID=Europe/Brussels:20190927T150000
DTSTAMP:20260424T173538
CREATED:20190916T165220Z
LAST-MODIFIED:20190916T165220Z
UID:3757-1569574800-1569596400@materdei-genk.be
SUMMARY:herfstwandeling
DESCRIPTION:
URL:https://materdei-genk.be/kalender/herfstwandeling/
CATEGORIES:Lagere school
END:VEVENT
END:VCALENDAR