BEGIN:VCALENDAR
VERSION:2.0
PRODID:-//Mater Dei Genk - ECPv4.7.4//NONSGML v1.0//EN
CALSCALE:GREGORIAN
METHOD:PUBLISH
X-WR-CALNAME:Mater Dei Genk
X-ORIGINAL-URL:https://materdei-genk.be
X-WR-CALDESC:Evenementen voor Mater Dei Genk
BEGIN:VEVENT
DTSTART;TZID=Europe/Brussels:20220922T193000
DTEND;TZID=Europe/Brussels:20220922T203000
DTSTAMP:20260421T090028
CREATED:20220904T150319Z
LAST-MODIFIED:20220910T101722Z
UID:14375-1663875000-1663878600@materdei-genk.be
SUMMARY:Info avond oudste kleuters
DESCRIPTION:Voor de klassen KB\, KC\, KF en KG \n
URL:https://materdei-genk.be/kalender/info-avond-oudste-kleuters/
CATEGORIES:1K roze klas,2K blauwe klas,3K gele klas,3K oranje klas
END:VEVENT
END:VCALENDAR