BEGIN:VCALENDAR
VERSION:2.0
PRODID:-//Mater Dei Genk - ECPv4.7.4//NONSGML v1.0//EN
CALSCALE:GREGORIAN
METHOD:PUBLISH
X-WR-CALNAME:Mater Dei Genk
X-ORIGINAL-URL:https://materdei-genk.be
X-WR-CALDESC:Evenementen voor Mater Dei Genk
BEGIN:VEVENT
DTSTART;VALUE=DATE:20260420
DTEND;VALUE=DATE:20260421
DTSTAMP:20260421T125310
CREATED:20250808T124218Z
LAST-MODIFIED:20250808T124218Z
UID:24553-1776643200-1776729599@materdei-genk.be
SUMMARY:Instapdag nieuwe peuters
DESCRIPTION:
URL:https://materdei-genk.be/kalender/instapdag-nieuwe-peuters-6/
CATEGORIES:1K roze klas
END:VEVENT
END:VCALENDAR