BEGIN:VCALENDAR
VERSION:2.0
PRODID:-//Mater Dei Genk - ECPv4.7.4//NONSGML v1.0//EN
CALSCALE:GREGORIAN
METHOD:PUBLISH
X-WR-CALNAME:Mater Dei Genk
X-ORIGINAL-URL:https://materdei-genk.be
X-WR-CALDESC:Evenementen voor Mater Dei Genk
BEGIN:VEVENT
DTSTART;TZID=Europe/Brussels:20220316T090000
DTEND;TZID=Europe/Brussels:20220316T103000
DTSTAMP:20260424T093608
CREATED:20220306T154240Z
LAST-MODIFIED:20220309T083549Z
UID:12737-1647421200-1647426600@materdei-genk.be
SUMMARY:Kijkdag voor nieuwe ouders ( let op inschrijven verplicht via directie@materdei-genk.be)
DESCRIPTION:
URL:https://materdei-genk.be/kalender/kijkdag/
END:VEVENT
END:VCALENDAR