BEGIN:VCALENDAR
VERSION:2.0
PRODID:-//Mater Dei Genk - ECPv4.7.4//NONSGML v1.0//EN
CALSCALE:GREGORIAN
METHOD:PUBLISH
X-WR-CALNAME:Mater Dei Genk
X-ORIGINAL-URL:https://materdei-genk.be
X-WR-CALDESC:Evenementen voor Mater Dei Genk
BEGIN:VEVENT
DTSTART;VALUE=DATE:20230220
DTEND;VALUE=DATE:20230227
DTSTAMP:20260423T084747
CREATED:20220904T151350Z
LAST-MODIFIED:20220904T151350Z
UID:14407-1676851200-1677455999@materdei-genk.be
SUMMARY:Krokusvakantie
DESCRIPTION:
URL:https://materdei-genk.be/kalender/krokusvakantie-2/
END:VEVENT
END:VCALENDAR