BEGIN:VCALENDAR
VERSION:2.0
PRODID:-//Mater Dei Genk - ECPv4.7.4//NONSGML v1.0//EN
CALSCALE:GREGORIAN
METHOD:PUBLISH
X-WR-CALNAME:Mater Dei Genk
X-ORIGINAL-URL:https://materdei-genk.be
X-WR-CALDESC:Evenementen voor Mater Dei Genk
BEGIN:VEVENT
DTSTART;TZID=Europe/Brussels:20200512T130000
DTEND;TZID=Europe/Brussels:20200512T130000
DTSTAMP:20260424T115003
CREATED:20191205T105059Z
LAST-MODIFIED:20191205T105145Z
UID:5547-1589288400-1589288400@materdei-genk.be
SUMMARY:kronkeldidoe
DESCRIPTION:
URL:https://materdei-genk.be/kalender/kronkeldidoe/
LOCATION:sportcentrum
CATEGORIES:1a,1b,2a,2b
END:VEVENT
END:VCALENDAR