BEGIN:VCALENDAR
VERSION:2.0
PRODID:-//Mater Dei Genk - ECPv4.7.4//NONSGML v1.0//EN
CALSCALE:GREGORIAN
METHOD:PUBLISH
X-WR-CALNAME:Mater Dei Genk
X-ORIGINAL-URL:https://materdei-genk.be
X-WR-CALDESC:Evenementen voor Mater Dei Genk
BEGIN:VEVENT
DTSTART;TZID=Europe/Brussels:20211013T083000
DTEND;TZID=Europe/Brussels:20211013T120000
DTSTAMP:20260425T002318
CREATED:20210928T145936Z
LAST-MODIFIED:20210928T145936Z
UID:10536-1634113800-1634126400@materdei-genk.be
SUMMARY:leerdag Scholengemeenschap " De Speling"
DESCRIPTION:studiedag voor de leerkrachten\, geen school voor de leerlingen \n
URL:https://materdei-genk.be/kalender/leerdag-scholengemeenschap-de-speling/
END:VEVENT
END:VCALENDAR