BEGIN:VCALENDAR
VERSION:2.0
PRODID:-//Mater Dei Genk - ECPv4.7.4//NONSGML v1.0//EN
CALSCALE:GREGORIAN
METHOD:PUBLISH
X-WR-CALNAME:Mater Dei Genk
X-ORIGINAL-URL:https://materdei-genk.be
X-WR-CALDESC:Evenementen voor Mater Dei Genk
BEGIN:VEVENT
DTSTART;TZID=Europe/Brussels:20191217T090000
DTEND;TZID=Europe/Brussels:20191217T123000
DTSTAMP:20260424T155648
CREATED:20191216T204133Z
LAST-MODIFIED:20191216T204133Z
UID:5895-1576573200-1576585800@materdei-genk.be
SUMMARY:Medisch schooltoezicht
DESCRIPTION:
URL:https://materdei-genk.be/kalender/medisch-schooltoezicht/
CATEGORIES:6b
END:VEVENT
END:VCALENDAR