BEGIN:VCALENDAR
VERSION:2.0
PRODID:-//Mater Dei Genk - ECPv4.7.4//NONSGML v1.0//EN
CALSCALE:GREGORIAN
METHOD:PUBLISH
X-WR-CALNAME:Mater Dei Genk
X-ORIGINAL-URL:https://materdei-genk.be
X-WR-CALDESC:Evenementen voor Mater Dei Genk
BEGIN:VEVENT
DTSTART;TZID=Europe/Brussels:20220330T080000
DTEND;TZID=Europe/Brussels:20220401T180000
DTSTAMP:20260424T092835
CREATED:20220306T152832Z
LAST-MODIFIED:20220306T153232Z
UID:12733-1648627200-1648836000@materdei-genk.be
SUMMARY:Meerdaagse uitstap naar Brugge
DESCRIPTION:
URL:https://materdei-genk.be/kalender/meerdaagse-uitstap-naar-brugge/
CATEGORIES:6a,6b
END:VEVENT
END:VCALENDAR