BEGIN:VCALENDAR
VERSION:2.0
PRODID:-//Mater Dei Genk - ECPv4.7.4//NONSGML v1.0//EN
CALSCALE:GREGORIAN
METHOD:PUBLISH
X-WR-CALNAME:Mater Dei Genk
X-ORIGINAL-URL:https://materdei-genk.be
X-WR-CALDESC:Evenementen voor Mater Dei Genk
BEGIN:VEVENT
DTSTART;TZID=Europe/Brussels:20220830T163000
DTEND;TZID=Europe/Brussels:20220830T180000
DTSTAMP:20260424T040046
CREATED:20220817T085402Z
LAST-MODIFIED:20220817T085402Z
UID:14316-1661877000-1661882400@materdei-genk.be
SUMMARY:Openklasdag 30 augustus 2022
DESCRIPTION:
URL:https://materdei-genk.be/kalender/openklasdag-30-augustus-2022/
END:VEVENT
END:VCALENDAR