BEGIN:VCALENDAR
VERSION:2.0
PRODID:-//Mater Dei Genk - ECPv4.7.4//NONSGML v1.0//EN
CALSCALE:GREGORIAN
METHOD:PUBLISH
X-WR-CALNAME:Mater Dei Genk
X-ORIGINAL-URL:https://materdei-genk.be
X-WR-CALDESC:Evenementen voor Mater Dei Genk
BEGIN:VEVENT
DTSTART;VALUE=DATE:20200313
DTEND;VALUE=DATE:20200314
DTSTAMP:20260424T180559
CREATED:20190916T173326Z
LAST-MODIFIED:20190916T173338Z
UID:3806-1584057600-1584143999@materdei-genk.be
SUMMARY:pedagogische studiedag
DESCRIPTION:
URL:https://materdei-genk.be/kalender/pedagogische-studiedag-2/
CATEGORIES:Kleuterschool,Lagere school
END:VEVENT
END:VCALENDAR