BEGIN:VCALENDAR
VERSION:2.0
PRODID:-//Mater Dei Genk - ECPv4.7.4//NONSGML v1.0//EN
CALSCALE:GREGORIAN
METHOD:PUBLISH
X-WR-CALNAME:Mater Dei Genk
X-ORIGINAL-URL:https://materdei-genk.be
X-WR-CALDESC:Evenementen voor Mater Dei Genk
BEGIN:VEVENT
DTSTART;TZID=Europe/Brussels:20220323T084000
DTEND;TZID=Europe/Brussels:20220323T120000
DTSTAMP:20260424T055802
CREATED:20220313T183615Z
LAST-MODIFIED:20220313T183615Z
UID:12967-1648024800-1648036800@materdei-genk.be
SUMMARY:Pedagogische studiedag
DESCRIPTION:
URL:https://materdei-genk.be/kalender/pedagogische-studiedag-4/
CATEGORIES:Kleuterschool,Lagere school
END:VEVENT
END:VCALENDAR