BEGIN:VCALENDAR
VERSION:2.0
PRODID:-//Mater Dei Genk - ECPv4.7.4//NONSGML v1.0//EN
CALSCALE:GREGORIAN
METHOD:PUBLISH
X-WR-CALNAME:Mater Dei Genk
X-ORIGINAL-URL:https://materdei-genk.be
X-WR-CALDESC:Evenementen voor Mater Dei Genk
BEGIN:VEVENT
DTSTART;TZID=Europe/Brussels:20191009T083000
DTEND;TZID=Europe/Brussels:20191009T123000
DTSTAMP:20260424T154914
CREATED:20190916T172220Z
LAST-MODIFIED:20190916T172220Z
UID:3792-1570609800-1570624200@materdei-genk.be
SUMMARY:pedagogische studiedag scholengemeenschap De Speling
DESCRIPTION:
URL:https://materdei-genk.be/kalender/pedagogische-studiedag-scholengemeenschap-de-speling/
CATEGORIES:Kleuterschool,Lagere school
END:VEVENT
END:VCALENDAR