BEGIN:VCALENDAR
VERSION:2.0
PRODID:-//Mater Dei Genk - ECPv4.7.4//NONSGML v1.0//EN
CALSCALE:GREGORIAN
METHOD:PUBLISH
X-WR-CALNAME:Mater Dei Genk
X-ORIGINAL-URL:https://materdei-genk.be
X-WR-CALDESC:Evenementen voor Mater Dei Genk
BEGIN:VEVENT
DTSTART;VALUE=DATE:20200601
DTEND;VALUE=DATE:20200602
DTSTAMP:20260424T210644
CREATED:20190916T181345Z
LAST-MODIFIED:20190916T181345Z
UID:3816-1590969600-1591055999@materdei-genk.be
SUMMARY:Pinkstermaandag:  vrijaf
DESCRIPTION:
URL:https://materdei-genk.be/kalender/pinkstermaandag-vrijaf/
CATEGORIES:Kleuterschool,Lagere school
END:VEVENT
END:VCALENDAR