BEGIN:VCALENDAR
VERSION:2.0
PRODID:-//Mater Dei Genk - ECPv4.7.4//NONSGML v1.0//EN
CALSCALE:GREGORIAN
METHOD:PUBLISH
X-WR-CALNAME:Mater Dei Genk
X-ORIGINAL-URL:https://materdei-genk.be
X-WR-CALDESC:Evenementen voor Mater Dei Genk
BEGIN:VEVENT
DTSTART;TZID=Europe/Brussels:20220310T084000
DTEND;TZID=Europe/Brussels:20220310T152000
DTSTAMP:20260424T131009
CREATED:20220306T152554Z
LAST-MODIFIED:20220306T152720Z
UID:12730-1646901600-1646925600@materdei-genk.be
SUMMARY:Schoolreis naar "Tarzan en Jane"
DESCRIPTION:
URL:https://materdei-genk.be/kalender/schoolreis-naar-tarzan-en-jane/
CATEGORIES:1a,1b,1K paarse klas,1K roze klas,2K blauwe klas,2K groene klas,2K rode klas,3K oranje klas
END:VEVENT
END:VCALENDAR