BEGIN:VCALENDAR
VERSION:2.0
PRODID:-//Mater Dei Genk - ECPv4.7.4//NONSGML v1.0//EN
CALSCALE:GREGORIAN
METHOD:PUBLISH
X-WR-CALNAME:Mater Dei Genk
X-ORIGINAL-URL:https://materdei-genk.be
X-WR-CALDESC:Evenementen voor Mater Dei Genk
BEGIN:VEVENT
DTSTART;TZID=Europe/Brussels:20191004T133000
DTEND;TZID=Europe/Brussels:20191004T153000
DTSTAMP:20260424T154030
CREATED:20190920T132640Z
LAST-MODIFIED:20190920T132640Z
UID:3905-1570195800-1570203000@materdei-genk.be
SUMMARY:sponsorloop t.v.v. levensloop
DESCRIPTION:
URL:https://materdei-genk.be/kalender/sponsorloop-t-v-v-levensloop/
CATEGORIES:Lagere school
END:VEVENT
END:VCALENDAR