BEGIN:VCALENDAR
VERSION:2.0
PRODID:-//Mater Dei Genk - ECPv4.7.4//NONSGML v1.0//EN
CALSCALE:GREGORIAN
METHOD:PUBLISH
X-WR-CALNAME:Mater Dei Genk
X-ORIGINAL-URL:https://materdei-genk.be
X-WR-CALDESC:Evenementen voor Mater Dei Genk
BEGIN:VEVENT
DTSTART;TZID=Europe/Brussels:20210527T090000
DTEND;TZID=Europe/Brussels:20210527T150000
DTSTAMP:20260423T103553
CREATED:20210520T112711Z
LAST-MODIFIED:20210520T112711Z
UID:9913-1622106000-1622127600@materdei-genk.be
SUMMARY:sportdag kleuters
DESCRIPTION:
URL:https://materdei-genk.be/kalender/sportdag-kleuters/
END:VEVENT
END:VCALENDAR