BEGIN:VCALENDAR
VERSION:2.0
PRODID:-//Mater Dei Genk - ECPv4.7.4//NONSGML v1.0//EN
CALSCALE:GREGORIAN
METHOD:PUBLISH
X-WR-CALNAME:Mater Dei Genk
X-ORIGINAL-URL:https://materdei-genk.be
X-WR-CALDESC:Evenementen voor Mater Dei Genk
BEGIN:VEVENT
DTSTART;TZID=Europe/Brussels:20200123T100000
DTEND;TZID=Europe/Brussels:20200123T113000
DTSTAMP:20260424T134021
CREATED:20190916T170111Z
LAST-MODIFIED:20190916T170111Z
UID:3764-1579773600-1579779000@materdei-genk.be
SUMMARY:theater: doe de groeten aan de ganzen
DESCRIPTION:
URL:https://materdei-genk.be/kalender/theater-doe-de-groeten-aan-de-ganzen/
CATEGORIES:2a,2b
END:VEVENT
END:VCALENDAR