BEGIN:VCALENDAR
VERSION:2.0
PRODID:-//Mater Dei Genk - ECPv4.7.4//NONSGML v1.0//EN
CALSCALE:GREGORIAN
METHOD:PUBLISH
X-WR-CALNAME:Mater Dei Genk
X-ORIGINAL-URL:https://materdei-genk.be
X-WR-CALDESC:Evenementen voor Mater Dei Genk
BEGIN:VEVENT
DTSTART;TZID=Europe/Brussels:20220324T100000
DTEND;TZID=Europe/Brussels:20220324T110000
DTSTAMP:20260424T074822
CREATED:20211025T130624Z
LAST-MODIFIED:20211025T130624Z
UID:11190-1648116000-1648119600@materdei-genk.be
SUMMARY:Theater - Vuur/toren
DESCRIPTION:
URL:https://materdei-genk.be/kalender/theater-vuur-toren/
CATEGORIES:2a,2b
END:VEVENT
END:VCALENDAR