BEGIN:VCALENDAR
VERSION:2.0
PRODID:-//Mater Dei Genk - ECPv4.7.4//NONSGML v1.0//EN
CALSCALE:GREGORIAN
METHOD:PUBLISH
X-WR-CALNAME:Mater Dei Genk
X-ORIGINAL-URL:https://materdei-genk.be
X-WR-CALDESC:Evenementen voor Mater Dei Genk
BEGIN:VEVENT
DTSTART;TZID=Europe/Brussels:20191114T103000
DTEND;TZID=Europe/Brussels:20191114T114500
DTSTAMP:20260424T233853
CREATED:20190920T134752Z
LAST-MODIFIED:20190920T134752Z
UID:3915-1573727400-1573731900@materdei-genk.be
SUMMARY:Voor het eerst naar de bieb:" leesmicroben"
DESCRIPTION:
URL:https://materdei-genk.be/kalender/voor-het-eerst-naar-de-bieb-leesmicroben/
CATEGORIES:2K blauwe klas
END:VEVENT
END:VCALENDAR