BEGIN:VCALENDAR
VERSION:2.0
PRODID:-//Mater Dei Genk - ECPv4.7.4//NONSGML v1.0//EN
CALSCALE:GREGORIAN
METHOD:PUBLISH
X-WR-CALNAME:Mater Dei Genk
X-ORIGINAL-URL:https://materdei-genk.be
X-WR-CALDESC:Evenementen voor Mater Dei Genk
BEGIN:VEVENT
DTSTART;VALUE=DATE:20200522
DTEND;VALUE=DATE:20200523
DTSTAMP:20260424T230223
CREATED:20190916T181303Z
LAST-MODIFIED:20190916T181303Z
UID:3814-1590105600-1590191999@materdei-genk.be
SUMMARY:vrije dag
DESCRIPTION:
URL:https://materdei-genk.be/kalender/vrije-dag/
CATEGORIES:Kleuterschool,Lagere school
END:VEVENT
END:VCALENDAR