BEGIN:VCALENDAR
VERSION:2.0
PRODID:-//Mater Dei Genk - ECPv4.7.4//NONSGML v1.0//EN
CALSCALE:GREGORIAN
METHOD:PUBLISH
X-WR-CALNAME:Mater Dei Genk
X-ORIGINAL-URL:https://materdei-genk.be
X-WR-CALDESC:Evenementen voor Mater Dei Genk
BEGIN:VEVENT
DTSTART;TZID=Europe/Brussels:20191021T080000
DTEND;TZID=Europe/Brussels:20191025T170000
DTSTAMP:20260424T185708
CREATED:20190916T171708Z
LAST-MODIFIED:20190916T171708Z
UID:3784-1571644800-1572022800@materdei-genk.be
SUMMARY:zeeklassen zesde leerjaar
DESCRIPTION:
URL:https://materdei-genk.be/kalender/zeeklassen-zesde-leerjaar/
CATEGORIES:6a,6b
END:VEVENT
END:VCALENDAR